BEGIN:VCALENDAR
VERSION:2.0
PRODID:-//87.98.154.146//NONSGML kigkonsult.se iCalcreator 2.20//
CALSCALE:GREGORIAN
METHOD:PUBLISH
X-WR-CALNAME:Église La Source
X-WR-CALDESC:Église évangelique
X-FROM-URL:https://www.jesus.lu
X-WR-TIMEZONE:Europe/Luxembourg
BEGIN:VTIMEZONE
TZID:Europe/Luxembourg
X-LIC-LOCATION:Europe/Luxembourg
BEGIN:STANDARD
DTSTART:20191027T030000
TZOFFSETFROM:+0200
TZOFFSETTO:+0100
TZNAME:CET
END:STANDARD
BEGIN:DAYLIGHT
DTSTART:20190331T020000
TZOFFSETFROM:+0100
TZOFFSETTO:+0200
TZNAME:CEST
END:DAYLIGHT
END:VTIMEZONE
BEGIN:VEVENT
UID:ai1ec-2423@www.jesus.lu/Eglise
DTSTAMP:20190823T040908Z
CATEGORIES;LANGUAGE=fr-FR:Evenements
CONTACT:
DESCRIPTION:<div id='et-boc' class='et-boc'>\n			\n			<div class='et_builder_inne
 r_content et_pb_gutters3'>\n				\n			</div>\n			\n		</div>
DTSTART;TZID=Europe/Luxembourg:20170205T100000
DTEND;TZID=Europe/Luxembourg:20170205T110000
SEQUENCE:0
SUMMARY:Pasteur invité\, Mario Naccarato
URL:https://www.jesus.lu/?ai1ec_event=pasteur-invite-mario-naccarato
END:VEVENT
END:VCALENDAR
